BEGIN:VCALENDAR
VERSION:2.0
PRODID:-//Teemu Kinnari - ECPv6.15.20//NONSGML v1.0//EN
CALSCALE:GREGORIAN
METHOD:PUBLISH
X-ORIGINAL-URL:https://www.teemukinnari.fi
X-WR-CALDESC:Tapahtumat Teemu Kinnari
REFRESH-INTERVAL;VALUE=DURATION:PT1H
X-Robots-Tag:noindex
X-PUBLISHED-TTL:PT1H
BEGIN:VTIMEZONE
TZID:Europe/Helsinki
BEGIN:DAYLIGHT
TZOFFSETFROM:+0200
TZOFFSETTO:+0300
TZNAME:EEST
DTSTART:20210328T010000
END:DAYLIGHT
BEGIN:STANDARD
TZOFFSETFROM:+0300
TZOFFSETTO:+0200
TZNAME:EET
DTSTART:20211031T010000
END:STANDARD
BEGIN:DAYLIGHT
TZOFFSETFROM:+0200
TZOFFSETTO:+0300
TZNAME:EEST
DTSTART:20220327T010000
END:DAYLIGHT
BEGIN:STANDARD
TZOFFSETFROM:+0300
TZOFFSETTO:+0200
TZNAME:EET
DTSTART:20221030T010000
END:STANDARD
BEGIN:DAYLIGHT
TZOFFSETFROM:+0200
TZOFFSETTO:+0300
TZNAME:EEST
DTSTART:20230326T010000
END:DAYLIGHT
BEGIN:STANDARD
TZOFFSETFROM:+0300
TZOFFSETTO:+0200
TZNAME:EET
DTSTART:20231029T010000
END:STANDARD
BEGIN:DAYLIGHT
TZOFFSETFROM:+0200
TZOFFSETTO:+0300
TZNAME:EEST
DTSTART:20240331T010000
END:DAYLIGHT
BEGIN:STANDARD
TZOFFSETFROM:+0300
TZOFFSETTO:+0200
TZNAME:EET
DTSTART:20241027T010000
END:STANDARD
END:VTIMEZONE
BEGIN:VEVENT
DTSTART;TZID=Europe/Helsinki:20221102T090000
DTEND;TZID=Europe/Helsinki:20221102T130000
DTSTAMP:20260420T034835
CREATED:20221003T105018Z
LAST-MODIFIED:20221003T105807Z
UID:318-1667379600-1667394000@www.teemukinnari.fi
SUMMARY:Lahden markkinat 2.11.2022
DESCRIPTION:Lahden torilla keskustellaan vilkkaasti päivän politiikasta\, haasteista ja odotuksista. Olen kokoomuksen teltalla yhdessä muiden ehdokkaiden kanssa.
URL:https://www.teemukinnari.fi/tapahtuma/lahden-markkinat-2-11-2022/
LOCATION:Lahden tori\, Lahden tori\, Lahti
END:VEVENT
BEGIN:VEVENT
DTSTART;TZID=Europe/Helsinki:20221203T100000
DTEND;TZID=Europe/Helsinki:20221203T140000
DTSTAMP:20260420T034835
CREATED:20221124T212730Z
LAST-MODIFIED:20221124T212730Z
UID:444-1670061600-1670076000@www.teemukinnari.fi
SUMMARY:Teemun Joulutulet Kinnarin Tilalla 3.12 klo 10-14
DESCRIPTION:Tule tapaamaan minua ja vierastani kansanedustaja Kalle Jokista Joulutulille. Kinnarin Tilan pihapiirissä on tunnelmallinen kota ja tarjoiluteltta jossa nautimme Joulupuurosta sekä glögistä ja pipareista. Keskustellaan maailma paremmaksi!
URL:https://www.teemukinnari.fi/tapahtuma/teemun-joulutulet-kinnarin-tilalla-3-12-klo-10-14/
LOCATION:Kinnarin Tila\, Soramäentie 1\, Hollola\, 15880
ATTACH;FMTTYPE=image/png:https://www.teemukinnari.fi/wp-content/uploads/2022/11/Teemu_Kinnari_Joulutulet_Kalle_jokinen.png
END:VEVENT
BEGIN:VEVENT
DTSTART;TZID=Europe/Helsinki:20221207T090000
DTEND;TZID=Europe/Helsinki:20221207T130000
DTSTAMP:20260420T034835
CREATED:20221124T211914Z
LAST-MODIFIED:20221124T211914Z
UID:441-1670403600-1670418000@www.teemukinnari.fi
SUMMARY:Lahden markkinat 7.12
DESCRIPTION:
URL:https://www.teemukinnari.fi/tapahtuma/lahden-markkinat-7-12/
LOCATION:Lahden tori\, Lahden tori\, Lahti
ATTACH;FMTTYPE=image/jpeg:https://www.teemukinnari.fi/wp-content/uploads/2022/11/IMG-20221102-WA0006.jpg
END:VEVENT
BEGIN:VEVENT
DTSTART;TZID=Europe/Helsinki:20221210T100000
DTEND;TZID=Europe/Helsinki:20221210T140000
DTSTAMP:20260420T034835
CREATED:20221124T213235Z
LAST-MODIFIED:20221124T215848Z
UID:449-1670666400-1670680800@www.teemukinnari.fi
SUMMARY:Teemun Joulutulet 10.12 klo 10-14.00 Kinnarin Tilalla
DESCRIPTION:Teemu Isäntä on kutsunut vieraaksi Metsäkeskuksen elinkeinopäällikön Jouni Rantasen keskustelemaan metsästä. Ja siitä riittää tässä ajankuvassa paljon keskusteltavaa. Tule kuuntelemaan energiapuusta\, metsäennallistamisesta ja muista ajankohtaisista asioista.  Tarjolla Teemun Joulupuuroa ja Glögiä sekä pipareita.
URL:https://www.teemukinnari.fi/tapahtuma/teemun-joulutulet-10-12/
LOCATION:Kinnarin Tila\, Soramäentie 1\, Hollola\, 15880
ATTACH;FMTTYPE=image/png:https://www.teemukinnari.fi/wp-content/uploads/2022/11/Joulutulet-10.12.2022.png
END:VEVENT
BEGIN:VEVENT
DTSTART;TZID=Europe/Helsinki:20221217T100000
DTEND;TZID=Europe/Helsinki:20221217T140000
DTSTAMP:20260420T034835
CREATED:20221124T213851Z
LAST-MODIFIED:20221124T222526Z
UID:451-1671271200-1671285600@www.teemukinnari.fi
SUMMARY:Teemun Joulutulet 17.12 klo 10-14.00 Kinnarin Tilalla
DESCRIPTION:Teemu kutsuu mukaan Joulun Joulutulille. Syödään yhdessä Joulupuuroa ja glögiä sekä pipareita. Mukana ilmaista poniratsastusta klo 10-12 sekä Joulupukki vierailee 11-14 välisen ajan\, pukin kanssa voi ottaa kuvan Kodalla. Lauletaan ja vietetään kivaa yhteistä aikaa sekä keskustellaan maailman menosta.
URL:https://www.teemukinnari.fi/tapahtuma/teemun-joulutulet-17-12-klo-10-14-00-kinnarin-tilalla/
LOCATION:Kinnarin Tila\, Soramäentie 1\, Hollola\, 15880
ATTACH;FMTTYPE=image/png:https://www.teemukinnari.fi/wp-content/uploads/2022/11/Joulutulet-17.12-1.png
END:VEVENT
BEGIN:VEVENT
DTSTART;TZID=Europe/Helsinki:20230104T090000
DTEND;TZID=Europe/Helsinki:20230104T120000
DTSTAMP:20260420T034835
CREATED:20230103T092930Z
LAST-MODIFIED:20230103T223310Z
UID:509-1672822800-1672833600@www.teemukinnari.fi
SUMMARY:Lahden kuukausimarkkinat 4.1
DESCRIPTION:
URL:https://www.teemukinnari.fi/tapahtuma/lahden-kuukausimarkkinat/
LOCATION:Lahden tori\, Lahden tori\, Lahti
ATTACH;FMTTYPE=image/jpeg:https://www.teemukinnari.fi/wp-content/uploads/2022/11/IMG-20221102-WA0006.jpg
END:VEVENT
BEGIN:VEVENT
DTSTART;TZID=Europe/Helsinki:20230107T100000
DTEND;TZID=Europe/Helsinki:20230107T120000
DTSTAMP:20260420T034835
CREATED:20230103T223512Z
LAST-MODIFIED:20230103T225053Z
UID:522-1673085600-1673092800@www.teemukinnari.fi
SUMMARY:Forssan Torilla 7.1 klo 10.00-12.00
DESCRIPTION:
URL:https://www.teemukinnari.fi/tapahtuma/forssan-torilla-7-1-klo-10-00-12-00/
LOCATION:Forssan tori
ATTACH;FMTTYPE=image/jpeg:https://www.teemukinnari.fi/wp-content/uploads/2023/01/teemu-kinnari-torilla-2.jpg
END:VEVENT
BEGIN:VEVENT
DTSTART;TZID=Europe/Helsinki:20230112T103000
DTEND;TZID=Europe/Helsinki:20230112T121500
DTSTAMP:20260420T034835
CREATED:20230111T160800Z
LAST-MODIFIED:20230111T160800Z
UID:547-1673519400-1673525700@www.teemukinnari.fi
SUMMARY:Lahti Sinuhe kahvila Mariankatu 12.1 klo 10.30-12.15
DESCRIPTION:Kokoomuksen vpj Elina Valtonen vierailee Lahdessa 11-12 \nOlen paikalla keskustelemassa yleisön kanssa jo 10.30 alkaen. Nähdään.
URL:https://www.teemukinnari.fi/tapahtuma/lahti-sinuhe-kahvila-mariankatu-12-1-klo-10-30-12-15/
ATTACH;FMTTYPE=image/jpeg:https://www.teemukinnari.fi/wp-content/uploads/2023/01/Lahti-5.10.2022.jpg-2.jpg
END:VEVENT
BEGIN:VEVENT
DTSTART;TZID=Europe/Helsinki:20230117T160000
DTEND;TZID=Europe/Helsinki:20230117T170000
DTSTAMP:20260420T034835
CREATED:20230115T123738Z
LAST-MODIFIED:20230115T123738Z
UID:595-1673971200-1673974800@www.teemukinnari.fi
SUMMARY:Metsä-\, maatalous- ja energiakeskustelu\, paikalla 3 kansanedustajaa
DESCRIPTION:Mielenkiintoinen keskusteluilta tärkeiden aiheiden äärellä. Kahvitarjoilu.
URL:https://www.teemukinnari.fi/tapahtuma/metsa-maatalous-ja-energiakeskustelu-paikalla-3-kansanedustajaa/
LOCATION:Kinnarin Tila\, Soramäentie 1\, Hollola\, 15880
ATTACH;FMTTYPE=image/png:https://www.teemukinnari.fi/wp-content/uploads/2023/01/Teemu-Kinnari-Metsa-ja-maatalouskeskustelu.png
END:VEVENT
BEGIN:VEVENT
DTSTART;TZID=Europe/Helsinki:20230121T130000
DTEND;TZID=Europe/Helsinki:20230121T140000
DTSTAMP:20260420T034835
CREATED:20230111T170721Z
LAST-MODIFIED:20230111T170721Z
UID:572-1674306000-1674309600@www.teemukinnari.fi
SUMMARY:Gaalaravit Lahden Jokimaalla 21.1 klo 13-17
DESCRIPTION:Ravigaala-ravit ravataan Jokimaalla lauantaina 21.1. Ohjelmassa muun muassa 75-divisioonakarsinnat. \n  \nOlen paikalla tavattavissa 13-14 katsomon edessä ja loppuravit tavoitat minut katsomosta. Hevosihmisen asialla!
URL:https://www.teemukinnari.fi/tapahtuma/gaalaravit-lahden-jokimaalla-21-1-klo-13-17/
LOCATION:Jokimaan Ravikeskus\, Jokimaankatu 6\, Lahti\, 15700
ATTACH;FMTTYPE=image/jpeg:https://www.teemukinnari.fi/wp-content/uploads/2022/12/Teemu-Kinnari-suomenhevonen.jpg
END:VEVENT
BEGIN:VEVENT
DTSTART;TZID=Europe/Helsinki:20230127T170000
DTEND;TZID=Europe/Helsinki:20230127T190000
DTSTAMP:20260420T034835
CREATED:20230123T205743Z
LAST-MODIFIED:20230123T224455Z
UID:757-1674838800-1674846000@www.teemukinnari.fi
SUMMARY:Pe 27.1 Vieraana Risto Artjoki
DESCRIPTION:Tilaisuudessa mukana Euroopan komission maatalouspääosastolta Risto Artjoki joka on myös toiminut Jyrki Kataisen ja Olli Rehnin kabinetissa Brysselissä ja Suomessa Jari Koskisen ja Petteri Orpon valtiosihteerinä. Brysselin uransa hän kuitenkin aloitti MTK:n Lobbarina. Hän on lupautunut valottamaan mihin kaikkiin asioihin tulevien kansanedustajien\, kuten toivottavasti Teemun pitää varautua EU:n suhteen.  Ja toki Hollolasta kotoisin.  Uskomme että metsistä ja ruuasta riittää keskusteltavaa\, ilmastoa ja luonnon monimuotoisuutta unohtamatta.\n\n\n27.1. Klo 17-19 Teemu tarjoaa perjantaipizzat
URL:https://www.teemukinnari.fi/tapahtuma/pe-27-1-vieraana-risto-artjoki/
LOCATION:Kinnarin Tila\, Soramäentie 1\, Hollola\, 15880
ATTACH;FMTTYPE=image/jpeg:https://www.teemukinnari.fi/wp-content/uploads/2023/01/TK_FB_artjoki-1.jpg
END:VEVENT
BEGIN:VEVENT
DTSTART;TZID=Europe/Helsinki:20230128T100000
DTEND;TZID=Europe/Helsinki:20230128T160000
DTSTAMP:20260420T034835
CREATED:20230111T171426Z
LAST-MODIFIED:20230111T171426Z
UID:575-1674900000-1674921600@www.teemukinnari.fi
SUMMARY:Speedway-ajot Messilä 28.1 klo 10-16
DESCRIPTION:Speedway-ajot Messilä 28.1 klo 10-16 \nTeemu Kinnarilla teltta ja kuumaa juotavaa tarjolla! Tule keskustelemaan päivän polttavista asioista vauhdikkaan päivän ohessa.
URL:https://www.teemukinnari.fi/tapahtuma/speedway-ajot-messila-28-1-klo-10-16/
LOCATION:Messilän satama\, Hollola
ATTACH;FMTTYPE=image/jpeg:https://www.teemukinnari.fi/wp-content/uploads/2023/01/Jaaspeedway.jpg
END:VEVENT
BEGIN:VEVENT
DTSTART;TZID=Europe/Helsinki:20230201T090000
DTEND;TZID=Europe/Helsinki:20230201T120000
DTSTAMP:20260420T034835
CREATED:20230103T093355Z
LAST-MODIFIED:20230103T093409Z
UID:511-1675242000-1675252800@www.teemukinnari.fi
SUMMARY:Lahden kuukausimarkkinat 1.2.
DESCRIPTION:
URL:https://www.teemukinnari.fi/tapahtuma/lahden-kuukausimarkkinat-2/
LOCATION:Lahden tori\, Lahden tori\, Lahti
ATTACH;FMTTYPE=image/jpeg:https://www.teemukinnari.fi/wp-content/uploads/2023/01/teemu-kinnari-torilla-1.jpg
END:VEVENT
BEGIN:VEVENT
DTSTART;TZID=Europe/Helsinki:20230203T090000
DTEND;TZID=Europe/Helsinki:20230203T110000
DTSTAMP:20260420T034835
CREATED:20230111T161741Z
LAST-MODIFIED:20230111T161741Z
UID:550-1675414800-1675422000@www.teemukinnari.fi
SUMMARY:Heinolan Markkinat 3.2 klo 9-11
DESCRIPTION:Heinolan torilla tavataan!
URL:https://www.teemukinnari.fi/tapahtuma/heinolan-markkinat-3-2-klo-9-11/
LOCATION:Heinolan Tori\, Torikatu\, Heinola\, 18100\, Suomi
ATTACH;FMTTYPE=image/jpeg:https://www.teemukinnari.fi/wp-content/uploads/2023/01/Forssa-2.jpg
END:VEVENT
BEGIN:VEVENT
DTSTART;TZID=Europe/Helsinki:20230207T090000
DTEND;TZID=Europe/Helsinki:20230207T110000
DTSTAMP:20260420T034835
CREATED:20230111T162201Z
LAST-MODIFIED:20230111T163128Z
UID:557-1675760400-1675767600@www.teemukinnari.fi
SUMMARY:Hämeenlinnan markkinat 7.2 klo 9-11
DESCRIPTION:Torilla tavataan ja vaihdetaan päivän polttavat asiat!
URL:https://www.teemukinnari.fi/tapahtuma/hameenlinnan-markkinat-7-2-klo-9-11/
LOCATION:Hämeenlinnan tori\, Raatihuoneenkatu 11\, Hämeenlinna\, 13200\, Suomi
ATTACH;FMTTYPE=image/jpeg:https://www.teemukinnari.fi/wp-content/uploads/2023/01/IMG-20221102-WA0008.jpg
END:VEVENT
BEGIN:VEVENT
DTSTART;TZID=Europe/Helsinki:20230211T100000
DTEND;TZID=Europe/Helsinki:20230211T130000
DTSTAMP:20260420T034835
CREATED:20230111T163013Z
LAST-MODIFIED:20230111T163013Z
UID:561-1676109600-1676120400@www.teemukinnari.fi
SUMMARY:Hollolan Tori 11.2 klo 10-13
DESCRIPTION:Hollolan Kokoomus tarjoaa makkaraa ja paljon ehdokkaita paikalla. Tämä on kotikulmillani joten tule juttelemaan ja puhutaan kunnankin asioista!
URL:https://www.teemukinnari.fi/tapahtuma/hollolan-tori-11-2-klo-10-13/
LOCATION:Hollolan Tori\, Nuottikuja 2\, Hollola\, 15870
ATTACH;FMTTYPE=image/jpeg:https://www.teemukinnari.fi/wp-content/uploads/2023/01/Teemu-Kinnari-ja-Kalle-Jokinen-scaled.jpg
END:VEVENT
BEGIN:VEVENT
DTSTART;TZID=Europe/Helsinki:20230211T130000
DTEND;TZID=Europe/Helsinki:20230211T140000
DTSTAMP:20260420T034835
CREATED:20230210T115421Z
LAST-MODIFIED:20230210T115431Z
UID:836-1676120400-1676124000@www.teemukinnari.fi
SUMMARY:Yrittäjien kansanjuhla Riihimäki Kauppakeskus Majakka
DESCRIPTION:Olen paikalla 13-14 tapahtumassa ja tule moikkaamaan\, puhetta riittää päivän teemasta\, yrittäjyydestä.
URL:https://www.teemukinnari.fi/tapahtuma/yrittajien-kansanjuhla-riihimaki-kauppakeskus-majakka/
LOCATION:kauppakeskus Majakka
ATTACH;FMTTYPE=image/jpeg:https://www.teemukinnari.fi/wp-content/uploads/2023/01/Lahti-5.10.2022.jpg-2.jpg
END:VEVENT
BEGIN:VEVENT
DTSTART;TZID=Europe/Helsinki:20230215T080000
DTEND;TZID=Europe/Helsinki:20230215T170000
DTSTAMP:20260420T034835
CREATED:20230210T122329Z
LAST-MODIFIED:20230210T122346Z
UID:840-1676448000-1676480400@www.teemukinnari.fi
SUMMARY:Kiertueella Antti Häkkäsen mukana Päijät-Hämeessä
DESCRIPTION:Orimattila Kahvila Marenki S-marketin aulassa  10.45 \nLahti Sibeliustalo talouseminaari 12.00 \nHeinola 14.15 Kahden Muijan kahvila\, Torilla \nAsikkala 15.15 ravintola Jalmar Anianpellontie 17 Väksy \nLahti kahvila Sinuhe Mariankatu 16.15 \n  \n 
URL:https://www.teemukinnari.fi/tapahtuma/kiertueella-antti-hakkasen-mukana-paijat-hameessa/
ATTACH;FMTTYPE=image/jpeg:https://www.teemukinnari.fi/wp-content/uploads/2023/02/Antti-Hakkanen-ja-Teemu-Kinnari.jpg
END:VEVENT
BEGIN:VEVENT
DTSTART;TZID=Europe/Helsinki:20230215T120000
DTEND;TZID=Europe/Helsinki:20230215T160000
DTSTAMP:20260420T034835
CREATED:20230111T163935Z
LAST-MODIFIED:20230111T164759Z
UID:566-1676462400-1676476800@www.teemukinnari.fi
SUMMARY:Talous seminaari 15.2 Sibeliustalo Lahti klo 12-16
DESCRIPTION:Talousseminaari järjestetään 15.2.2023 Lahdessa Sibeliustalolla. Teemana on talous\, turvallisuus ja sote. Seminaari alkaa lounastarjoilulla klo 12. Osallistumismaksu on 300 eur/hlö\, josta Ohjelma on valmisteilla ja alustajista osallistumisensa on vahvistanut EK:n pääekonomisti Penna Urrila. Tiedotamme tästä sitä mukaa kun uutta tietoa on saatavilla
URL:https://www.teemukinnari.fi/tapahtuma/talous-seminaari-15-2-sibeliustalo-lahti-klo12-16/
LOCATION:sibeliustalo\, Ankkurikatu 7\, Lahti\, 15140
ATTACH;FMTTYPE=image/jpeg:https://www.teemukinnari.fi/wp-content/uploads/2023/01/3N1A7342.jpg
END:VEVENT
BEGIN:VEVENT
DTSTART;TZID=Europe/Helsinki:20230215T163000
DTEND;TZID=Europe/Helsinki:20230215T183000
DTSTAMP:20260420T034835
CREATED:20230210T122519Z
LAST-MODIFIED:20230210T122519Z
UID:843-1676478600-1676485800@www.teemukinnari.fi
SUMMARY:Päijät-Hämeen Yrittäjien paneeli
DESCRIPTION:Olen lämpiössä ja tilaisuudessa mukana vaikka paneelistiksi en päässyt.
URL:https://www.teemukinnari.fi/tapahtuma/paijat-hameen-yrittajien-paneeli/
LOCATION:Felmannia
ATTACH;FMTTYPE=image/jpeg:https://www.teemukinnari.fi/wp-content/uploads/2022/10/3N1A7262.jpg
END:VEVENT
BEGIN:VEVENT
DTSTART;TZID=Europe/Helsinki:20230219T110000
DTEND;TZID=Europe/Helsinki:20230219T130000
DTSTAMP:20260420T034835
CREATED:20230210T123128Z
LAST-MODIFIED:20230216T210640Z
UID:849-1676804400-1676811600@www.teemukinnari.fi
SUMMARY:TALVIRIEHA Mukkulan kartano
DESCRIPTION:Nyt kaikki isolla porukalla laskemaan mäkeä! Sunnuntaina 19.2 olen klo 11-14 laskemassa perheeni ja tiimini kanssa mäkeä Lahden Kokoomuksen järjestämässä laskiaisriehassa.\n\n\nLapsille kasvomaalausta\, poniajelua sekä tarjolla kuumaa mehua. Paikalla tapaat minun lisäksi muitakin mainioita eduskuntavaaliehdokkaita.
URL:https://www.teemukinnari.fi/tapahtuma/talvirieha-mukkulan-kartano/
ATTACH;FMTTYPE=image/png:https://www.teemukinnari.fi/wp-content/uploads/2023/02/Laskiaisrieha-19.2-klo-11-14-Mukkulan-kartano.png
END:VEVENT
BEGIN:VEVENT
DTSTART;TZID=Europe/Helsinki:20230221T180000
DTEND;TZID=Europe/Helsinki:20230221T200000
DTSTAMP:20260420T034835
CREATED:20230216T211743Z
LAST-MODIFIED:20230216T211821Z
UID:869-1677002400-1677009600@www.teemukinnari.fi
SUMMARY:Hollolassa Yrittäjien-ilta PadelMarinassa 21.2 klo 18
DESCRIPTION:Tavataan Hollolan Padel Marinassa\, joka on muuten kokemisen arvoinen\, Suomen monipuolisin sisäpelikeskus! Yrittäjä Heimo Hälikkä esittelee paikan. Kahvitellaan ja puhutaan yrittäjyydestä sekä kerron omat vahvat vaaliteemani.
URL:https://www.teemukinnari.fi/tapahtuma/hollolassa-yrittajien-ilta-padelmarinassa-21-2-klo-18/
LOCATION:Sisäpelikeskus PadelMarina
ATTACH;FMTTYPE=image/jpeg:https://www.teemukinnari.fi/wp-content/uploads/2023/02/TK_yrittajat.jpg
END:VEVENT
BEGIN:VEVENT
DTSTART;TZID=Europe/Helsinki:20230222T170000
DTEND;TZID=Europe/Helsinki:20230222T183000
DTSTAMP:20260420T034835
CREATED:20230214T133536Z
LAST-MODIFIED:20230214T140350Z
UID:861-1677085200-1677090600@www.teemukinnari.fi
SUMMARY:ORIMATTILA Teemu Kinnari ja Kalle Jokinen tupailta kahvila Marenki 22.2. klo 17.00
DESCRIPTION:Tervetuloa tutustumaan minuun ja keskustelemaan. Olen asiantuntija metsissä\, maataloudessa ja kuntapolitiikassa. \nKansanedustaja Kalle Jokinen myös mukana ja keskustellaan kaikista päivän aiheista kanssanne ja tarjoamme kahvit. Tervetuloa kahvila Marenkiin S-marketin aulaan
URL:https://www.teemukinnari.fi/tapahtuma/orimattila-teemu-kinnari-ja-kalle-jokinen-tupailta-kahvila-marenki-22-2-klo-17-00/
LOCATION:Kahvila Marenki\, S-marketin aula\, Orimattila
ATTACH;FMTTYPE=image/png:https://www.teemukinnari.fi/wp-content/uploads/2023/02/Teemu-KInnari-Orimattila.png
END:VEVENT
BEGIN:VEVENT
DTSTART;TZID=Europe/Helsinki:20230226T100000
DTEND;TZID=Europe/Helsinki:20230226T170000
DTSTAMP:20260420T034835
CREATED:20230224T003420Z
LAST-MODIFIED:20230224T163043Z
UID:920-1677405600-1677430800@www.teemukinnari.fi
SUMMARY:Finlandia hiihto 25-26.2 Lahti -Hollola
DESCRIPTION:Sain kunnan olla lähettäjänä tulevan sunnuntaina 26.2 klo 10.00 vapaan tyylin Finlandia-hiihdolle. Urheilumiehenä tämä on iloinen asian.
URL:https://www.teemukinnari.fi/tapahtuma/finlandia-hiihti-25-26-2-lahti-hollola/
END:VEVENT
BEGIN:VEVENT
DTSTART;TZID=Europe/Helsinki:20230227T180000
DTEND;TZID=Europe/Helsinki:20230227T200000
DTSTAMP:20260420T034835
CREATED:20230216T212545Z
LAST-MODIFIED:20230216T212545Z
UID:873-1677520800-1677528000@www.teemukinnari.fi
SUMMARY:Hartola 27.2 Teemu Kinnari ja Milla Bruneau Kuninkaanportissa tupailta 18-20
DESCRIPTION:HARTOLA 27.2 klo 18-20 ‼️ Tervetuloa keskustelemaan päivän polttavista aiheista ja tapaamaan minua Teemu Kinnaria sekä Milla Bruneauta Kuninkaanportin kahvilaan. Vahvat teemani ovat metsä- ja maatalous\, ruokaomavaraisuus sekä yrittäjyys. Kahvitarjoilu!
URL:https://www.teemukinnari.fi/tapahtuma/hartola-27-2-teemu-kinnari-ja-milla-bruneau-kuninkaanportissa-tupailta-18-20/
ATTACH;FMTTYPE=image/jpeg:https://www.teemukinnari.fi/wp-content/uploads/2023/02/TKMB_hartola-1.jpg
END:VEVENT
BEGIN:VEVENT
DTSTART;TZID=Europe/Helsinki:20230228T180000
DTEND;TZID=Europe/Helsinki:20230228T200000
DTSTAMP:20260420T034835
CREATED:20230216T213337Z
LAST-MODIFIED:20230216T213337Z
UID:877-1677607200-1677614400@www.teemukinnari.fi
SUMMARY:Kärkölä 28.2. klo 18-20 tupailta Kesoil Järvelä Teemu Kinnari ja Milla Bruneau
DESCRIPTION:KÄRKÖLÄ 28.2 klo 18-20 ‼️ Tule keskustelemaan päivän politiikasta ja tapaamaan minua Teemu Kinnaria sekä Milla Bruneauta Kesoil Järvelän kahvilaan. Vahvat teemani ovat metsä- ja maatalous\, ruokaomavaraisuus sekä yrittäjyys. Kahvitarjoilu
URL:https://www.teemukinnari.fi/tapahtuma/karkola-28-2-klo-18-20-tupailta-kesoil-jarvela-teemu-kinnari-ja-milla-bruneau/
ATTACH;FMTTYPE=image/jpeg:https://www.teemukinnari.fi/wp-content/uploads/2023/02/TKMB_karkola-1.jpg
END:VEVENT
BEGIN:VEVENT
DTSTART;TZID=Europe/Helsinki:20230301T090000
DTEND;TZID=Europe/Helsinki:20230301T120000
DTSTAMP:20260420T034835
CREATED:20230103T093543Z
LAST-MODIFIED:20230103T093543Z
UID:518-1677661200-1677672000@www.teemukinnari.fi
SUMMARY:Lahden kuukausimarkkinat 1.3.
DESCRIPTION:
URL:https://www.teemukinnari.fi/tapahtuma/lahden-kuukausimarkkinat-1-3/
LOCATION:Lahden tori\, Lahden tori\, Lahti
ATTACH;FMTTYPE=image/jpeg:https://www.teemukinnari.fi/wp-content/uploads/2023/01/teemu-kinnari-torilla-2-1.jpg
END:VEVENT
BEGIN:VEVENT
DTSTART;TZID=Europe/Helsinki:20230301T180000
DTEND;TZID=Europe/Helsinki:20230301T200000
DTSTAMP:20260420T034835
CREATED:20230210T122839Z
LAST-MODIFIED:20230220T092704Z
UID:846-1677693600-1677700800@www.teemukinnari.fi
SUMMARY:PADASJOKI Tupa-ilta  Antti Räsäsen kotona 1.3 klo 18-20
DESCRIPTION:Koivukuja 11 Maakeski Tupailta ja olen puhumassa Keskustan Juha Rehulan kanssa politiikkaa.
URL:https://www.teemukinnari.fi/tapahtuma/padasjoki-tupa-ilta-antti-rasasen-kotona/
ATTACH;FMTTYPE=image/jpeg:https://www.teemukinnari.fi/wp-content/uploads/2023/02/Antti-Rasanen.jpg
END:VEVENT
BEGIN:VEVENT
DTSTART;TZID=Europe/Helsinki:20230303T090000
DTEND;TZID=Europe/Helsinki:20230303T120000
DTSTAMP:20260420T034835
CREATED:20230220T094846Z
LAST-MODIFIED:20230220T094846Z
UID:883-1677834000-1677844800@www.teemukinnari.fi
SUMMARY:Heinolan markkinat 3.3. klo 9-12 Teemu Kinnari eduskuntavaaliehdokas paikalla
DESCRIPTION:
URL:https://www.teemukinnari.fi/tapahtuma/heinolan-markkinat-3-3-klo-9-12-teemu-kinnari-eduskuntavaaliehdokas-paikalla/
LOCATION:Heinolan Tori\, Torikatu\, Heinola\, 18100\, Suomi
ATTACH;FMTTYPE=image/jpeg:https://www.teemukinnari.fi/wp-content/uploads/2022/11/IMG-20221102-WA0006.jpg
END:VEVENT
BEGIN:VEVENT
DTSTART;TZID=Europe/Helsinki:20230303T140000
DTEND;TZID=Europe/Helsinki:20230303T153000
DTSTAMP:20260420T034835
CREATED:20230220T095201Z
LAST-MODIFIED:20230220T095336Z
UID:886-1677852000-1677857400@www.teemukinnari.fi
SUMMARY:Hämeenlinna 3.3. klo 14-15.30 K-Citymarket Tiiriö Hämeenlinna eduskuntavaaliehdokas Teemu Kinnari
DESCRIPTION:Hämeenlinna 14-15.30 Citymarket Tiiriö Hämeenlinna kaupan edustalla kampanjointia
URL:https://www.teemukinnari.fi/tapahtuma/hameenlinna-3-3-klo-14-15-30-k-citymarket-tiirio-hameenlinna/
LOCATION:K-Citymarket Tiiriö
ATTACH;FMTTYPE=image/jpeg:https://www.teemukinnari.fi/wp-content/uploads/2023/01/IMG-20221102-WA0008.jpg
END:VEVENT
END:VCALENDAR