BEGIN:VCALENDAR
VERSION:2.0
PRODID:-//Teemu Kinnari - ECPv6.15.20//NONSGML v1.0//EN
CALSCALE:GREGORIAN
METHOD:PUBLISH
X-ORIGINAL-URL:https://www.teemukinnari.fi
X-WR-CALDESC:Tapahtumat Teemu Kinnari
REFRESH-INTERVAL;VALUE=DURATION:PT1H
X-Robots-Tag:noindex
X-PUBLISHED-TTL:PT1H
BEGIN:VTIMEZONE
TZID:Europe/Helsinki
BEGIN:DAYLIGHT
TZOFFSETFROM:+0200
TZOFFSETTO:+0300
TZNAME:EEST
DTSTART:20210328T010000
END:DAYLIGHT
BEGIN:STANDARD
TZOFFSETFROM:+0300
TZOFFSETTO:+0200
TZNAME:EET
DTSTART:20211031T010000
END:STANDARD
BEGIN:DAYLIGHT
TZOFFSETFROM:+0200
TZOFFSETTO:+0300
TZNAME:EEST
DTSTART:20220327T010000
END:DAYLIGHT
BEGIN:STANDARD
TZOFFSETFROM:+0300
TZOFFSETTO:+0200
TZNAME:EET
DTSTART:20221030T010000
END:STANDARD
BEGIN:DAYLIGHT
TZOFFSETFROM:+0200
TZOFFSETTO:+0300
TZNAME:EEST
DTSTART:20230326T010000
END:DAYLIGHT
BEGIN:STANDARD
TZOFFSETFROM:+0300
TZOFFSETTO:+0200
TZNAME:EET
DTSTART:20231029T010000
END:STANDARD
END:VTIMEZONE
BEGIN:VEVENT
DTSTART;TZID=Europe/Helsinki:20221102T090000
DTEND;TZID=Europe/Helsinki:20221102T130000
DTSTAMP:20260420T013634
CREATED:20221003T105018Z
LAST-MODIFIED:20221003T105807Z
UID:318-1667379600-1667394000@www.teemukinnari.fi
SUMMARY:Lahden markkinat 2.11.2022
DESCRIPTION:Lahden torilla keskustellaan vilkkaasti päivän politiikasta\, haasteista ja odotuksista. Olen kokoomuksen teltalla yhdessä muiden ehdokkaiden kanssa.
URL:https://www.teemukinnari.fi/tapahtuma/lahden-markkinat-2-11-2022/
LOCATION:Lahden tori\, Lahden tori\, Lahti
END:VEVENT
END:VCALENDAR